BEGIN:VCALENDAR
VERSION:2.0
PRODID:-//Förderverein Otto-Hahn-Schule - ECPv6.15.20//NONSGML v1.0//EN
CALSCALE:GREGORIAN
METHOD:PUBLISH
X-ORIGINAL-URL:https://www.foerderverein-ohs.org
X-WR-CALDESC:Veranstaltungen für Förderverein Otto-Hahn-Schule
REFRESH-INTERVAL;VALUE=DURATION:PT1H
X-Robots-Tag:noindex
X-PUBLISHED-TTL:PT1H
BEGIN:VTIMEZONE
TZID:Europe/Berlin
BEGIN:DAYLIGHT
TZOFFSETFROM:+0100
TZOFFSETTO:+0200
TZNAME:CEST
DTSTART:20140330T010000
END:DAYLIGHT
BEGIN:STANDARD
TZOFFSETFROM:+0200
TZOFFSETTO:+0100
TZNAME:CET
DTSTART:20141026T010000
END:STANDARD
BEGIN:DAYLIGHT
TZOFFSETFROM:+0100
TZOFFSETTO:+0200
TZNAME:CEST
DTSTART:20150329T010000
END:DAYLIGHT
BEGIN:STANDARD
TZOFFSETFROM:+0200
TZOFFSETTO:+0100
TZNAME:CET
DTSTART:20151025T010000
END:STANDARD
BEGIN:DAYLIGHT
TZOFFSETFROM:+0100
TZOFFSETTO:+0200
TZNAME:CEST
DTSTART:20160327T010000
END:DAYLIGHT
BEGIN:STANDARD
TZOFFSETFROM:+0200
TZOFFSETTO:+0100
TZNAME:CET
DTSTART:20161030T010000
END:STANDARD
BEGIN:DAYLIGHT
TZOFFSETFROM:+0100
TZOFFSETTO:+0200
TZNAME:CEST
DTSTART:20170326T010000
END:DAYLIGHT
BEGIN:STANDARD
TZOFFSETFROM:+0200
TZOFFSETTO:+0100
TZNAME:CET
DTSTART:20171029T010000
END:STANDARD
BEGIN:DAYLIGHT
TZOFFSETFROM:+0100
TZOFFSETTO:+0200
TZNAME:CEST
DTSTART:20180325T010000
END:DAYLIGHT
BEGIN:STANDARD
TZOFFSETFROM:+0200
TZOFFSETTO:+0100
TZNAME:CET
DTSTART:20181028T010000
END:STANDARD
BEGIN:DAYLIGHT
TZOFFSETFROM:+0100
TZOFFSETTO:+0200
TZNAME:CEST
DTSTART:20190331T010000
END:DAYLIGHT
BEGIN:STANDARD
TZOFFSETFROM:+0200
TZOFFSETTO:+0100
TZNAME:CET
DTSTART:20191027T010000
END:STANDARD
BEGIN:DAYLIGHT
TZOFFSETFROM:+0100
TZOFFSETTO:+0200
TZNAME:CEST
DTSTART:20200329T010000
END:DAYLIGHT
BEGIN:STANDARD
TZOFFSETFROM:+0200
TZOFFSETTO:+0100
TZNAME:CET
DTSTART:20201025T010000
END:STANDARD
BEGIN:DAYLIGHT
TZOFFSETFROM:+0100
TZOFFSETTO:+0200
TZNAME:CEST
DTSTART:20210328T010000
END:DAYLIGHT
BEGIN:STANDARD
TZOFFSETFROM:+0200
TZOFFSETTO:+0100
TZNAME:CET
DTSTART:20211031T010000
END:STANDARD
BEGIN:DAYLIGHT
TZOFFSETFROM:+0100
TZOFFSETTO:+0200
TZNAME:CEST
DTSTART:20220327T010000
END:DAYLIGHT
BEGIN:STANDARD
TZOFFSETFROM:+0200
TZOFFSETTO:+0100
TZNAME:CET
DTSTART:20221030T010000
END:STANDARD
BEGIN:DAYLIGHT
TZOFFSETFROM:+0100
TZOFFSETTO:+0200
TZNAME:CEST
DTSTART:20230326T010000
END:DAYLIGHT
BEGIN:STANDARD
TZOFFSETFROM:+0200
TZOFFSETTO:+0100
TZNAME:CET
DTSTART:20231029T010000
END:STANDARD
BEGIN:DAYLIGHT
TZOFFSETFROM:+0100
TZOFFSETTO:+0200
TZNAME:CEST
DTSTART:20240331T010000
END:DAYLIGHT
BEGIN:STANDARD
TZOFFSETFROM:+0200
TZOFFSETTO:+0100
TZNAME:CET
DTSTART:20241027T010000
END:STANDARD
BEGIN:DAYLIGHT
TZOFFSETFROM:+0100
TZOFFSETTO:+0200
TZNAME:CEST
DTSTART:20250330T010000
END:DAYLIGHT
BEGIN:STANDARD
TZOFFSETFROM:+0200
TZOFFSETTO:+0100
TZNAME:CET
DTSTART:20251026T010000
END:STANDARD
BEGIN:DAYLIGHT
TZOFFSETFROM:+0100
TZOFFSETTO:+0200
TZNAME:CEST
DTSTART:20260329T010000
END:DAYLIGHT
BEGIN:STANDARD
TZOFFSETFROM:+0200
TZOFFSETTO:+0100
TZNAME:CET
DTSTART:20261025T010000
END:STANDARD
END:VTIMEZONE
BEGIN:VEVENT
DTSTART;TZID=Europe/Berlin:20250926T163000
DTEND;TZID=Europe/Berlin:20250926T190000
DTSTAMP:20260420T052829
CREATED:20250918T114302Z
LAST-MODIFIED:20250918T135044Z
UID:817-1758904200-1758913200@www.foerderverein-ohs.org
SUMMARY:Herbstmarkt 26.09.2025
DESCRIPTION:Flyer Herbstmarkt 2025
URL:https://www.foerderverein-ohs.org/event/herbstmarkt-26-09-2025/
LOCATION:Otto-Hahn-Schule Heusenstamm\, Philipp-Reis-Str. 52-54\, Heusenstamm\, 63150
CATEGORIES:Herbstmarkt
END:VEVENT
BEGIN:VEVENT
DTSTART;TZID=Europe/Berlin:20191025T163000
DTEND;TZID=Europe/Berlin:20191025T190000
DTSTAMP:20260420T052829
CREATED:20190919T120053Z
LAST-MODIFIED:20190919T120517Z
UID:638-1572021000-1572030000@www.foerderverein-ohs.org
SUMMARY:Herbstmarkt 25. Oktober 2019
DESCRIPTION:Herbstmarkt 25. Oktober 2019
URL:https://www.foerderverein-ohs.org/event/herbstmarkt-25-oktober-2019/
LOCATION:Otto-Hahn-Schule Heusenstamm\, Philipp-Reis-Str. 52-54\, Heusenstamm\, 63150
CATEGORIES:Fest,Herbstmarkt
ATTACH;FMTTYPE=application/pdf:https://www.foerderverein-ohs.org/wp-content/uploads/2019/09/Flyer-Herbstmarkt-2019-2-2.pdf
END:VEVENT
BEGIN:VEVENT
DTSTART;TZID=Europe/Berlin:20180503T190000
DTEND;TZID=Europe/Berlin:20180503T210000
DTSTAMP:20260420T052829
CREATED:20180405T143130Z
LAST-MODIFIED:20180405T143130Z
UID:553-1525374000-1525381200@www.foerderverein-ohs.org
SUMMARY:Mitgliederversammlung 2018
DESCRIPTION:Einladung zur Mitgliederversammlung \nLiebes Mitglied\, \nhiermit laden wir Sie ganz herzlich ein zur Mitgliederversammlung 2018. \n03. Mai 2018\n19 Uhr\nMensa der Otto-Hahn-Schule \nDie Tagesordnung lautet wie folgt\n1. Begrüßung und Feststellung der Beschlussfähigkeit\n2. Geschäftsbericht\n3. Bericht des Kassenwarts\n4. Bericht der Kassenprüfer über die Kassenprüfung\n5. Anträge zur Mitgliederversammlung\n6. Vorschläge für das neue Vereinsjahr\n7. Verschiedenes \nAnträge zur Mitgliederversammlung bitten wir\, schriftlich bis spätestens zum 30.04.2018 per E-Mail vorstand@foerderverein-ohs.org an uns zu senden. \nWir würden uns sehr darüber freuen\, wenn Sie als Mitglied Interesse daran haben im Förderverein mitzuarbeiten. Wenn Sie sich über die Arbeit des Fördervereins informieren möchten\, setzen Sie sich bitte mit Herrn Menz (01520 57 62248) in Verbindung. \nWir freuen uns über eine zahlreiche Teilnahme\, damit die für das kommende Jahr anstehenden Beschlüsse von möglichst vielen Mitgliedern aktiv getragen werden. \nBeste Grüße\nIhr Vorstand des Fördervereins
URL:https://www.foerderverein-ohs.org/event/mitgliederversammlung-2018/
LOCATION:Otto-Hahn-Schule Heusenstamm\, Philipp-Reis-Str. 52-54\, Heusenstamm\, 63150
CATEGORIES:Mitgliederversammlung
END:VEVENT
BEGIN:VEVENT
DTSTART;TZID=Europe/Berlin:20171027T163000
DTEND;TZID=Europe/Berlin:20171027T190000
DTSTAMP:20260420T052829
CREATED:20160912T193029Z
LAST-MODIFIED:20171005T083058Z
UID:404-1509121800-1509130800@www.foerderverein-ohs.org
SUMMARY:Herbstmarkt 2017
DESCRIPTION:Liebe Schüler\, liebe Eltern\, liebe Freunde der Otto-Hahn-Schule\, \nnach dem sensationellen Erfolg im letzten Jahr laden wir Euch erneut herzlich zum Herbstmarkt auf dem Gelände der Otto-Hahn-Schule ein. \n27.10.2017\n16.30h bis 19.00h\nSchulhof und Aula der Otto-Hahn-Schule \nDieses Jahr für Euch\nKinderdisco in der Aula\nKürbissuppe\nStockbrot am Lagerfeuer\nVerkaufsstände\nFrische Waffeln und Kuchen\nGegrillte Würstchen\nHeiße und kalte Getränke für Groß und Klein\nKinderkürbiswettbewerb \nBeste Grüße vom\nVorstand des Fördervereins der OHS
URL:https://www.foerderverein-ohs.org/event/herbstmarkt-2016/
LOCATION:Otto-Hahn-Schule Heusenstamm\, Philipp-Reis-Str. 52-54\, Heusenstamm\, 63150
CATEGORIES:Fest,Herbstmarkt
ATTACH;FMTTYPE=image/jpeg:https://www.foerderverein-ohs.org/wp-content/uploads/2015/09/herbstmarkt2015-17-e1484647676493.jpg
END:VEVENT
BEGIN:VEVENT
DTSTART;TZID=Europe/Berlin:20170623T140000
DTEND;TZID=Europe/Berlin:20170623T180000
DTSTAMP:20260420T052829
CREATED:20170310T095008Z
LAST-MODIFIED:20170310T095008Z
UID:454-1498226400-1498240800@www.foerderverein-ohs.org
SUMMARY:Schulfest
DESCRIPTION:
URL:https://www.foerderverein-ohs.org/event/schulfest/
LOCATION:Otto-Hahn-Schule Heusenstamm\, Philipp-Reis-Str. 52-54\, Heusenstamm\, 63150
CATEGORIES:Fest,Schulfest
END:VEVENT
BEGIN:VEVENT
DTSTART;VALUE=DATE:20170613
DTEND;VALUE=DATE:20170630
DTSTAMP:20260420T052829
CREATED:20170310T094908Z
LAST-MODIFIED:20170310T094908Z
UID:452-1497312000-1498780799@www.foerderverein-ohs.org
SUMMARY:Verkehrserziehung 4. Klasse
DESCRIPTION:
URL:https://www.foerderverein-ohs.org/event/verkehrserziehung-4-klasse/
LOCATION:Otto-Hahn-Schule Heusenstamm\, Philipp-Reis-Str. 52-54\, Heusenstamm\, 63150
END:VEVENT
BEGIN:VEVENT
DTSTART;TZID=Europe/Berlin:20170520T140000
DTEND;TZID=Europe/Berlin:20170520T170000
DTSTAMP:20260420T052829
CREATED:20170310T095449Z
LAST-MODIFIED:20170329T074058Z
UID:456-1495288800-1495299600@www.foerderverein-ohs.org
SUMMARY:Flohmarkt 2017
DESCRIPTION:Flohmarkt Mai 2017 \nSamstag 20. Mai 2017\n14 bis 17 Uhr auf dem Schulhof der Otto-Hahn-Schule \nStandgebühr für 1 Tisch und 1 Kleiderständer\nErwachsene 5\,- € + 1 Kuchen\nErwachsene ohne Kuchen 10\,- € \nKinder auf einer Decke (Kleinteile) kostenfrei \nKaffee- und Kuchentheke mit alkoholfreien Getränken \n\n\n  \n\n\n\nAnmeldung Flohmarkt\n \nIhr Name (Pflichtfeld)\n \n\n \nIhre E-Mail-Adresse (Pflichtfeld)\n \n\n \nIhre Mobiltelefonnummer\n \n\n \nErwachsene mit Kuchen €5Erwachsene ohne Kuchen €10Kinder mit Kleinteilen auf Decke kostenlos\n \n\n \n\n\n\nAnmeldung per Mail an anmeldung@foerderverein-ohs.org \nAnmeldung per Telefon an 01520 57 62248. \nEinlass zum Aufbau ab 13:15h
URL:https://www.foerderverein-ohs.org/event/kinderflohmarkt/
LOCATION:Otto-Hahn-Schule Heusenstamm\, Philipp-Reis-Str. 52-54\, Heusenstamm\, 63150
CATEGORIES:Flohmarkt
ATTACH;FMTTYPE=image/jpeg:https://www.foerderverein-ohs.org/wp-content/uploads/2017/03/MG_1723.jpg
END:VEVENT
BEGIN:VEVENT
DTSTART;VALUE=DATE:20170508
DTEND;VALUE=DATE:20170513
DTSTAMP:20260420T052829
CREATED:20170310T094646Z
LAST-MODIFIED:20170310T094646Z
UID:450-1494201600-1494633599@www.foerderverein-ohs.org
SUMMARY:Zu Fuß zur Schule
DESCRIPTION:
URL:https://www.foerderverein-ohs.org/event/zu-fuss-zur-schule/
LOCATION:Otto-Hahn-Schule Heusenstamm\, Philipp-Reis-Str. 52-54\, Heusenstamm\, 63150
END:VEVENT
BEGIN:VEVENT
DTSTART;VALUE=DATE:20170505
DTEND;VALUE=DATE:20170506
DTSTAMP:20260420T052829
CREATED:20170310T094600Z
LAST-MODIFIED:20170310T094600Z
UID:448-1493942400-1494028799@www.foerderverein-ohs.org
SUMMARY:Bundesjugendspiele 3./4. Klasse
DESCRIPTION:
URL:https://www.foerderverein-ohs.org/event/bundesjugendspiele-3-4-klasse/
LOCATION:Otto-Hahn-Schule Heusenstamm\, Philipp-Reis-Str. 52-54\, Heusenstamm\, 63150
END:VEVENT
BEGIN:VEVENT
DTSTART;VALUE=DATE:20170504
DTEND;VALUE=DATE:20170505
DTSTAMP:20260420T052829
CREATED:20170310T094503Z
LAST-MODIFIED:20170310T094503Z
UID:446-1493856000-1493942399@www.foerderverein-ohs.org
SUMMARY:Bundesjugendspiele 1./2. Klasse und Vorklasse
DESCRIPTION:
URL:https://www.foerderverein-ohs.org/event/bundesjugendspiele-1-2-klasse-und-vorklasse/
LOCATION:Otto-Hahn-Schule Heusenstamm\, Philipp-Reis-Str. 52-54\, Heusenstamm\, 63150
END:VEVENT
BEGIN:VEVENT
DTSTART;VALUE=DATE:20170504
DTEND;VALUE=DATE:20170505
DTSTAMP:20260420T052829
CREATED:20170310T094339Z
LAST-MODIFIED:20170310T094339Z
UID:444-1493856000-1493942399@www.foerderverein-ohs.org
SUMMARY:SEB-Sitzung / Schulkonferenz
DESCRIPTION:
URL:https://www.foerderverein-ohs.org/event/seb-sitzung-schulkonferenz/
LOCATION:Otto-Hahn-Schule Heusenstamm\, Philipp-Reis-Str. 52-54\, Heusenstamm\, 63150
CATEGORIES:Schulveranstaltung
END:VEVENT
BEGIN:VEVENT
DTSTART;VALUE=DATE:20170329
DTEND;VALUE=DATE:20170330
DTSTAMP:20260420T052829
CREATED:20170310T094238Z
LAST-MODIFIED:20170310T094238Z
UID:441-1490745600-1490831999@www.foerderverein-ohs.org
SUMMARY:Interner Lesewettbewerb 1./2./3. Klasse
DESCRIPTION:
URL:https://www.foerderverein-ohs.org/event/interner-lesewettbewerb-1-2-3-klasse/
LOCATION:Otto-Hahn-Schule Heusenstamm\, Philipp-Reis-Str. 52-54\, Heusenstamm\, 63150
END:VEVENT
BEGIN:VEVENT
DTSTART;TZID=Europe/Berlin:20170322T200000
DTEND;TZID=Europe/Berlin:20170322T213000
DTSTAMP:20260420T052829
CREATED:20170307T102922Z
LAST-MODIFIED:20170310T081923Z
UID:434-1490212800-1490218200@www.foerderverein-ohs.org
SUMMARY:Mitgliederversammlung 2017
DESCRIPTION:Sehr geehrte Mitglieder\, liebe Interessierte\, \nhiermit laden wir Sie ganz herzlich ein zur Mitgliederversammlung 2017 \nMittwoch\, den 22. März 2017\, 20 Uhr\, Mensa der Otto-Hahn-Schule \nDie Tagesordnung lautet wie folgt \n1. Begrüßung und Feststellung der Beschlussfähigkeit\n2. Geschäftsbericht\n3. Bericht des Kassenwarts\n4. Bericht der Kassenprüfer über die Kassenprüfung\n5. Entlastung des Vorstandes\n6. Wahl des neuen Vorstandes\n7. Anträge zur Mitgliederversammlung\n8. Vorschläge für das neue Vereinsjahr\n9. Verschiedenes \nAnträge zur Mitgliederversammlung bitten wir schriftlich bis spätestens zum 15.03.2016 per E-Mail vorstand@foerderverein-ohs.org an uns zu senden. \nWir würden uns sehr darüber freuen\, wenn Sie als Mitglied Interesse daran haben im Förderverein mitzuarbeiten. Wenn Sie sich über die Arbeit des Fördervereins informieren möchten\, setzen Sie sich bitte mit Herrn Menz (01520 57 62248) in Verbindung. \nWir freuen uns über eine zahlreiche Teilnahme\, damit die für das kommende Jahr anstehenden Beschlüsse von möglichst vielen Mitgliedern aktiv getragen werden. \nBeste Grüße\nIhr Vorstand des Fördervereins
URL:https://www.foerderverein-ohs.org/event/mitgliederversammlung-2017/
LOCATION:Otto-Hahn-Schule Heusenstamm\, Philipp-Reis-Str. 52-54\, Heusenstamm\, 63150
CATEGORIES:Mitgliederversammlung
END:VEVENT
BEGIN:VEVENT
DTSTART;TZID=Europe/Berlin:20160708T140000
DTEND;TZID=Europe/Berlin:20160708T170000
DTSTAMP:20260420T052829
CREATED:20160610T092431Z
LAST-MODIFIED:20160610T092431Z
UID:396-1467986400-1467997200@www.foerderverein-ohs.org
SUMMARY:Abschlußfeier Projektwoche
DESCRIPTION:
URL:https://www.foerderverein-ohs.org/event/abschlussfeier-projektwoche/
LOCATION:Otto-Hahn-Schule Heusenstamm\, Philipp-Reis-Str. 52-54\, Heusenstamm\, 63150
END:VEVENT
BEGIN:VEVENT
DTSTART;TZID=Europe/Berlin:20160704T090000
DTEND;TZID=Europe/Berlin:20160708T170000
DTSTAMP:20260420T052829
CREATED:20160415T124644Z
LAST-MODIFIED:20160415T124644Z
UID:374-1467622800-1467997200@www.foerderverein-ohs.org
SUMMARY:Projektwoche 2016: Olympia ruft!
DESCRIPTION:In diesem Jahr wollen wir in unserer Otto-Hahn-Schule vom 4. bis 8. Juli 2016 eine sportliche Projektwoche zum Thema „Olympia ruft“ veranstalten. \nHierfür benötigen wir tatkräftige Unterstützung. Einen ersten Aufruf haben Ihre Kinder heute in der Elternpost gehabt.
URL:https://www.foerderverein-ohs.org/event/projektwoche-2016-olympia-ruft/
LOCATION:Otto-Hahn-Schule Heusenstamm\, Philipp-Reis-Str. 52-54\, Heusenstamm\, 63150
CATEGORIES:Projektwoche,Schulveranstaltung
ATTACH;FMTTYPE=image/jpeg:https://www.foerderverein-ohs.org/wp-content/uploads/2016/04/12568057033_6a59d70b3a_b.jpg
END:VEVENT
BEGIN:VEVENT
DTSTART;TZID=Europe/Berlin:20160521T140000
DTEND;TZID=Europe/Berlin:20160521T170000
DTSTAMP:20260420T052829
CREATED:20160318T105306Z
LAST-MODIFIED:20160323T123334Z
UID:24-1463839200-1463850000@www.foerderverein-ohs.org
SUMMARY:Flohmarkt 2016
DESCRIPTION:Flohmarkt Mai 2016 \nStandgebühr für 1 Tisch und 1 Kleiderständer\nErwachsene 5\,- € + 1 Kuchen\nErwachsene ohne Kuchen 10\,- € \nKinder auf einer Decke (Kleinteile) kostenfrei \nKaffee- und Kuchentheke mit alkoholfreien Getränken \nAnmeldung per Mail an anmeldung@foerderverein-ohs.org \nEinlass zum Aufbau ab 13:30h \n\n\n  \n\n\n\nAnmeldung Flohmarkt\n \nIhr Name (Pflichtfeld)\n \n\n \nIhre E-Mail-Adresse (Pflichtfeld)\n \n\n \nIhre Mobiltelefonnummer\n \n\n \nErwachsene mit Kuchen €5Erwachsene ohne Kuchen €10Kinder mit Kleinteilen auf Decke kostenlos
URL:https://www.foerderverein-ohs.org/event/flohmarkt/
LOCATION:Otto-Hahn-Schule Heusenstamm\, Philipp-Reis-Str. 52-54\, Heusenstamm\, 63150
CATEGORIES:Flohmarkt
ATTACH;FMTTYPE=image/jpeg:https://www.foerderverein-ohs.org/wp-content/uploads/2015/03/flohmarkt20141.jpg
END:VEVENT
BEGIN:VEVENT
DTSTART;TZID=Europe/Berlin:20160415T080000
DTEND;TZID=Europe/Berlin:20160415T130000
DTSTAMP:20260420T052829
CREATED:20160203T102419Z
LAST-MODIFIED:20160203T102419Z
UID:366-1460707200-1460725200@www.foerderverein-ohs.org
SUMMARY:Schulbesuchstag (unterrichtsfrei)
DESCRIPTION:
URL:https://www.foerderverein-ohs.org/event/schulbesuchstag-unterrichtsfrei/
LOCATION:Otto-Hahn-Schule Heusenstamm\, Philipp-Reis-Str. 52-54\, Heusenstamm\, 63150
CATEGORIES:Schulveranstaltung
END:VEVENT
BEGIN:VEVENT
DTSTART;TZID=Europe/Berlin:20160323T080000
DTEND;TZID=Europe/Berlin:20160323T120000
DTSTAMP:20260420T052829
CREATED:20160203T102340Z
LAST-MODIFIED:20160203T102340Z
UID:365-1458720000-1458734400@www.foerderverein-ohs.org
SUMMARY:Interner Lesewettbewerb 1. und 2. Klassen
DESCRIPTION:
URL:https://www.foerderverein-ohs.org/event/interner-lesewettbewerb-1-und-2-klassen/
LOCATION:Otto-Hahn-Schule Heusenstamm\, Philipp-Reis-Str. 52-54\, Heusenstamm\, 63150
CATEGORIES:Schulveranstaltung
END:VEVENT
BEGIN:VEVENT
DTSTART;TZID=Europe/Berlin:20160322T200000
DTEND;TZID=Europe/Berlin:20160322T220000
DTSTAMP:20260420T052829
CREATED:20160203T095155Z
LAST-MODIFIED:20160415T122342Z
UID:362-1458676800-1458684000@www.foerderverein-ohs.org
SUMMARY:Mitgliederversammlung 2016
DESCRIPTION:Liebe Mitglieder\, \nam 22. März 2016 um 20:00 Uhr findet die Mitgliederversammlung des Fördervereins in der Schulkindbetreuung statt. \nTagesordnungspunkte können bis zum 20. März per Mail oder schriftlich an den Vorstand des Vereins gemeldet werden. \nWir freuen uns auf Sie! \nBeste Grüße\nIhr Vorstand
URL:https://www.foerderverein-ohs.org/event/mitgliederversammlung-2016/
LOCATION:Otto-Hahn-Schule Heusenstamm\, Philipp-Reis-Str. 52-54\, Heusenstamm\, 63150
CATEGORIES:Mitgliederversammlung
END:VEVENT
BEGIN:VEVENT
DTSTART;TZID=Europe/Berlin:20160210T080000
DTEND;TZID=Europe/Berlin:20160210T090000
DTSTAMP:20260420T052829
CREATED:20160203T102222Z
LAST-MODIFIED:20160203T102222Z
UID:364-1455091200-1455094800@www.foerderverein-ohs.org
SUMMARY:Aschermittwochs-Gottesdienst
DESCRIPTION:
URL:https://www.foerderverein-ohs.org/event/aschermittwochs-gottesdienst/
LOCATION:Otto-Hahn-Schule Heusenstamm\, Philipp-Reis-Str. 52-54\, Heusenstamm\, 63150
END:VEVENT
BEGIN:VEVENT
DTSTART;TZID=Europe/Berlin:20151009T163000
DTEND;TZID=Europe/Berlin:20151009T190000
DTSTAMP:20260420T052829
CREATED:20150904T124331Z
LAST-MODIFIED:20150924T150004Z
UID:91-1444408200-1444417200@www.foerderverein-ohs.org
SUMMARY:Herbstmarkt 2015
DESCRIPTION:Liebe Schüler\, liebe Eltern\, liebe Freunde der Otto-Hahn-Schule\, \nnach dem Erfolg im letzten Jahr laden wir Euch erneut herzlich zum Herbstmarkt auf dem Gelände der Otto-Hahn-Schule ein. \n09.10.2015\n16.30h bis 19.00h\nSchulhof der Otto-Hahn-Schule \nZauberer Bertolini wird uns mit einer Zauber-Mitmach-Show begeistern. \nAuch bei diesem Fest brauchen wir die Unterstützung der Eltern. Wir benötigen Auf- und Abbauhelfer und Standhelfer. \nWir freuen uns auf einen herbstlichen Nachmittag mit Ihnen! \nBeste Grüße vom\nVorstand des Fördervereins der OHS
URL:https://www.foerderverein-ohs.org/event/herbstmarkt-2015/
LOCATION:Otto-Hahn-Schule Heusenstamm\, Philipp-Reis-Str. 52-54\, Heusenstamm\, 63150
CATEGORIES:Herbstmarkt
ATTACH;FMTTYPE=image/jpeg:https://www.foerderverein-ohs.org/wp-content/uploads/2015/03/6851747210_1bef13fe08_k.jpg
END:VEVENT
BEGIN:VEVENT
DTSTART;TZID=Europe/Berlin:20150908T090000
DTEND;TZID=Europe/Berlin:20150908T120000
DTSTAMP:20260420T052829
CREATED:20150512T070128Z
LAST-MODIFIED:20150512T070209Z
UID:221-1441702800-1441713600@www.foerderverein-ohs.org
SUMMARY:Einschulung 2015
DESCRIPTION:
URL:https://www.foerderverein-ohs.org/event/einschulung-2015/
LOCATION:Otto-Hahn-Schule Heusenstamm\, Philipp-Reis-Str. 52-54\, Heusenstamm\, 63150
CATEGORIES:Einschulung
END:VEVENT
BEGIN:VEVENT
DTSTART;VALUE=DATE:20150710
DTEND;VALUE=DATE:20150711
DTSTAMP:20260420T052829
CREATED:20150415T125142Z
LAST-MODIFIED:20150415T125142Z
UID:164-1436486400-1436572799@www.foerderverein-ohs.org
SUMMARY:Sommerfest 2015
DESCRIPTION:
URL:https://www.foerderverein-ohs.org/event/sommerfest-2015/
LOCATION:Otto-Hahn-Schule Heusenstamm\, Philipp-Reis-Str. 52-54\, Heusenstamm\, 63150
CATEGORIES:Fest,Sommerfest
END:VEVENT
BEGIN:VEVENT
DTSTART;TZID=Europe/Berlin:20150517T121500
DTEND;TZID=Europe/Berlin:20150517T220000
DTSTAMP:20260420T052829
CREATED:20150424T143604Z
LAST-MODIFIED:20150424T143604Z
UID:198-1431864900-1431900000@www.foerderverein-ohs.org
SUMMARY:Bahnhofsfest Heusenstamm 2015
DESCRIPTION:
URL:https://www.foerderverein-ohs.org/event/bahnhofsfest-heusenstamm-2015/
LOCATION:Bahnhofsplatz\, Am Sandhügel\, Heusenstamm\, 63150\, Deutschland
CATEGORIES:Fest
END:VEVENT
BEGIN:VEVENT
DTSTART;TZID=Europe/Berlin:20150509T140000
DTEND;TZID=Europe/Berlin:20150509T160000
DTSTAMP:20260420T052829
CREATED:20150415T130917Z
LAST-MODIFIED:20150415T131129Z
UID:166-1431180000-1431187200@www.foerderverein-ohs.org
SUMMARY:Flohmarkt rund ums Kind!
DESCRIPTION:Bei unserem traditionellen Kinderflohmarkt werden Baby- und Kinderkleidung\, Spielsachen\, Bücher und alles Songstige rund ums Kind verkauft. Für das leibliche Wohl sorgen Kaffee und Kuchen sowie leckere\, frisch gebackene Waffeln! Einlass für Schwangere ab 13:30 Uhr! Stand-Anmeldungen bitte unter: flohmarkt_arche_noah@gmx.de Die Standgebühr beträgt 5€ + 1 selbst gebackenen Kuchen. Den Tisch (z.B. Tapeziertisch) bitte selbst mitbringen. Aufbau ab 12:30 Uhr. Wir freuen uns auf Sie!
URL:https://www.foerderverein-ohs.org/event/flohmarkt-rund-ums-kind/
LOCATION:Kita Arche Noah\, Berliner Str. 19\, Heusenstamm\, 63150\, Deutschland
CATEGORIES:Flohmarkt
END:VEVENT
END:VCALENDAR